BEGIN:VCALENDAR
VERSION:2.0
PRODID:-//Two Dragons Tai Chi - ECPv6.15.20//NONSGML v1.0//EN
CALSCALE:GREGORIAN
METHOD:PUBLISH
X-WR-CALNAME:Two Dragons Tai Chi
X-ORIGINAL-URL:https://twodragonstaichi.com
X-WR-CALDESC:Events for Two Dragons Tai Chi
REFRESH-INTERVAL;VALUE=DURATION:PT1H
X-Robots-Tag:noindex
X-PUBLISHED-TTL:PT1H
BEGIN:VTIMEZONE
TZID:America/New_York
BEGIN:DAYLIGHT
TZOFFSETFROM:-0500
TZOFFSETTO:-0400
TZNAME:EDT
DTSTART:20240310T070000
END:DAYLIGHT
BEGIN:STANDARD
TZOFFSETFROM:-0400
TZOFFSETTO:-0500
TZNAME:EST
DTSTART:20241103T060000
END:STANDARD
BEGIN:DAYLIGHT
TZOFFSETFROM:-0500
TZOFFSETTO:-0400
TZNAME:EDT
DTSTART:20250309T070000
END:DAYLIGHT
BEGIN:STANDARD
TZOFFSETFROM:-0400
TZOFFSETTO:-0500
TZNAME:EST
DTSTART:20251102T060000
END:STANDARD
BEGIN:DAYLIGHT
TZOFFSETFROM:-0500
TZOFFSETTO:-0400
TZNAME:EDT
DTSTART:20260308T070000
END:DAYLIGHT
BEGIN:STANDARD
TZOFFSETFROM:-0400
TZOFFSETTO:-0500
TZNAME:EST
DTSTART:20261101T060000
END:STANDARD
END:VTIMEZONE
BEGIN:VEVENT
DTSTART;TZID=America/New_York:20251106T093000
DTEND;TZID=America/New_York:20251106T103000
DTSTAMP:20260419T180501
CREATED:20220825T020112Z
LAST-MODIFIED:20240511T194412Z
UID:10000591-1762421400-1762425000@twodragonstaichi.com
SUMMARY:Tai Chi at Two Dragons Tai Chi
DESCRIPTION:Teaching Therapeutic Tai Chi.\nClass is via ZOOM.\nPlease contact us for more information.
URL:https://twodragonstaichi.com/event/tai-chi-at-lay-it-down-fitness-2/2025-11-06/
ORGANIZER;CN="Gene and Jeri McFadden":MAILTO:geneandjeri@twodragonstaichi.com
END:VEVENT
BEGIN:VEVENT
DTSTART;TZID=America/New_York:20251106T183000
DTEND;TZID=America/New_York:20251106T193000
DTSTAMP:20260419T180501
CREATED:20220825T020406Z
LAST-MODIFIED:20240511T125159Z
UID:10000259-1762453800-1762457400@twodragonstaichi.com
SUMMARY:Tai Chi at Centerville One Stop
DESCRIPTION:Teaching the Yang 10 form.\nYou must register for this class with the One Stop Office.\nA new sessions starts every month – except for November and December.\nYou can call 678-277-0228 for information and registration.
URL:https://twodragonstaichi.com/event/tai-chi-at-centerville-one-stop/2025-11-06/
LOCATION:Centerville One Stop\, 3025 Bethany Church Rd\, Snellville\, GA\, 30039\, United States
ORGANIZER;CN="Gene and Jeri McFadden":MAILTO:geneandjeri@twodragonstaichi.com
END:VEVENT
BEGIN:VEVENT
DTSTART;TZID=America/New_York:20251110T130000
DTEND;TZID=America/New_York:20251110T140000
DTSTAMP:20260419T180501
CREATED:20240511T131753Z
LAST-MODIFIED:20240511T131830Z
UID:10001849-1762779600-1762783200@twodragonstaichi.com
SUMMARY:Tai Chi at the Lilburn Activity Center
DESCRIPTION:Tai Chi at the GWINNETT COUNTY Lilburn Activity Building.\nTeaching the Yang 10 and 24 forms.\nPlease contact us for information.
URL:https://twodragonstaichi.com/event/3735/2025-11-10/
END:VEVENT
BEGIN:VEVENT
DTSTART;TZID=America/New_York:20251111T100000
DTEND;TZID=America/New_York:20251111T110000
DTSTAMP:20260419T180501
CREATED:20220825T014919Z
LAST-MODIFIED:20240511T194453Z
UID:10001588-1762855200-1762858800@twodragonstaichi.com
SUMMARY:Tai Chi at the Bridge At Austin
DESCRIPTION:Teaching Qigong and Therapeutic Tai Chi\nAll classes are currently via ZOOM.\nPlease contact us for information.
URL:https://twodragonstaichi.com/event/tai-chi-at-the-bridge-at-austin/2025-11-11/
ORGANIZER;CN="Gene and Jeri McFadden":MAILTO:geneandjeri@twodragonstaichi.com
END:VEVENT
BEGIN:VEVENT
DTSTART;TZID=America/New_York:20251112T100000
DTEND;TZID=America/New_York:20251112T110000
DTSTAMP:20260419T180501
CREATED:20220825T015554Z
LAST-MODIFIED:20240511T131445Z
UID:10001256-1762941600-1762945200@twodragonstaichi.com
SUMMARY:Tai Chi at the American Legion in Loganville
DESCRIPTION:Teaching the Yang 24 form.\nOpen to veterans and non-veterans.\nPlease contact us for information.
URL:https://twodragonstaichi.com/event/tai-chi-at-the-american-legion-in-loganville/2025-11-12/
LOCATION:Loganville American Legion\, 4635 Highway 78\, Loganville\, GA\, 30052\, United States
ORGANIZER;CN="Gene and Jeri McFadden":MAILTO:geneandjeri@twodragonstaichi.com
END:VEVENT
BEGIN:VEVENT
DTSTART;TZID=America/New_York:20251112T120000
DTEND;TZID=America/New_York:20251112T130000
DTSTAMP:20260419T180501
CREATED:20220825T015911Z
LAST-MODIFIED:20240511T194539Z
UID:10000924-1762948800-1762952400@twodragonstaichi.com
SUMMARY:Seated Qigong at the Bridge At Austin
DESCRIPTION:Teaching a seated Qigong class.\nZOOM session.\nContact us for more information.
URL:https://twodragonstaichi.com/event/seated-qigong-at-the-bridge-at-austin/2025-11-12/
ORGANIZER;CN="Gene and Jeri McFadden":MAILTO:geneandjeri@twodragonstaichi.com
END:VEVENT
BEGIN:VEVENT
DTSTART;TZID=America/New_York:20251113T093000
DTEND;TZID=America/New_York:20251113T103000
DTSTAMP:20260419T180501
CREATED:20220825T020112Z
LAST-MODIFIED:20240511T194412Z
UID:10000592-1763026200-1763029800@twodragonstaichi.com
SUMMARY:Tai Chi at Two Dragons Tai Chi
DESCRIPTION:Teaching Therapeutic Tai Chi.\nClass is via ZOOM.\nPlease contact us for more information.
URL:https://twodragonstaichi.com/event/tai-chi-at-lay-it-down-fitness-2/2025-11-13/
ORGANIZER;CN="Gene and Jeri McFadden":MAILTO:geneandjeri@twodragonstaichi.com
END:VEVENT
BEGIN:VEVENT
DTSTART;TZID=America/New_York:20251113T183000
DTEND;TZID=America/New_York:20251113T193000
DTSTAMP:20260419T180501
CREATED:20220825T020406Z
LAST-MODIFIED:20240511T125159Z
UID:10000260-1763058600-1763062200@twodragonstaichi.com
SUMMARY:Tai Chi at Centerville One Stop
DESCRIPTION:Teaching the Yang 10 form.\nYou must register for this class with the One Stop Office.\nA new sessions starts every month – except for November and December.\nYou can call 678-277-0228 for information and registration.
URL:https://twodragonstaichi.com/event/tai-chi-at-centerville-one-stop/2025-11-13/
LOCATION:Centerville One Stop\, 3025 Bethany Church Rd\, Snellville\, GA\, 30039\, United States
ORGANIZER;CN="Gene and Jeri McFadden":MAILTO:geneandjeri@twodragonstaichi.com
END:VEVENT
BEGIN:VEVENT
DTSTART;TZID=America/New_York:20251117T130000
DTEND;TZID=America/New_York:20251117T140000
DTSTAMP:20260419T180501
CREATED:20240511T131753Z
LAST-MODIFIED:20240511T131830Z
UID:10001850-1763384400-1763388000@twodragonstaichi.com
SUMMARY:Tai Chi at the Lilburn Activity Center
DESCRIPTION:Tai Chi at the GWINNETT COUNTY Lilburn Activity Building.\nTeaching the Yang 10 and 24 forms.\nPlease contact us for information.
URL:https://twodragonstaichi.com/event/3735/2025-11-17/
END:VEVENT
BEGIN:VEVENT
DTSTART;TZID=America/New_York:20251118T100000
DTEND;TZID=America/New_York:20251118T110000
DTSTAMP:20260419T180501
CREATED:20220825T014919Z
LAST-MODIFIED:20240511T194453Z
UID:10001589-1763460000-1763463600@twodragonstaichi.com
SUMMARY:Tai Chi at the Bridge At Austin
DESCRIPTION:Teaching Qigong and Therapeutic Tai Chi\nAll classes are currently via ZOOM.\nPlease contact us for information.
URL:https://twodragonstaichi.com/event/tai-chi-at-the-bridge-at-austin/2025-11-18/
ORGANIZER;CN="Gene and Jeri McFadden":MAILTO:geneandjeri@twodragonstaichi.com
END:VEVENT
BEGIN:VEVENT
DTSTART;TZID=America/New_York:20251119T100000
DTEND;TZID=America/New_York:20251119T110000
DTSTAMP:20260419T180501
CREATED:20220825T015554Z
LAST-MODIFIED:20240511T131445Z
UID:10001257-1763546400-1763550000@twodragonstaichi.com
SUMMARY:Tai Chi at the American Legion in Loganville
DESCRIPTION:Teaching the Yang 24 form.\nOpen to veterans and non-veterans.\nPlease contact us for information.
URL:https://twodragonstaichi.com/event/tai-chi-at-the-american-legion-in-loganville/2025-11-19/
LOCATION:Loganville American Legion\, 4635 Highway 78\, Loganville\, GA\, 30052\, United States
ORGANIZER;CN="Gene and Jeri McFadden":MAILTO:geneandjeri@twodragonstaichi.com
END:VEVENT
BEGIN:VEVENT
DTSTART;TZID=America/New_York:20251119T120000
DTEND;TZID=America/New_York:20251119T130000
DTSTAMP:20260419T180501
CREATED:20220825T015911Z
LAST-MODIFIED:20240511T194539Z
UID:10000925-1763553600-1763557200@twodragonstaichi.com
SUMMARY:Seated Qigong at the Bridge At Austin
DESCRIPTION:Teaching a seated Qigong class.\nZOOM session.\nContact us for more information.
URL:https://twodragonstaichi.com/event/seated-qigong-at-the-bridge-at-austin/2025-11-19/
ORGANIZER;CN="Gene and Jeri McFadden":MAILTO:geneandjeri@twodragonstaichi.com
END:VEVENT
BEGIN:VEVENT
DTSTART;TZID=America/New_York:20251120T093000
DTEND;TZID=America/New_York:20251120T103000
DTSTAMP:20260419T180501
CREATED:20220825T020112Z
LAST-MODIFIED:20240511T194412Z
UID:10000593-1763631000-1763634600@twodragonstaichi.com
SUMMARY:Tai Chi at Two Dragons Tai Chi
DESCRIPTION:Teaching Therapeutic Tai Chi.\nClass is via ZOOM.\nPlease contact us for more information.
URL:https://twodragonstaichi.com/event/tai-chi-at-lay-it-down-fitness-2/2025-11-20/
ORGANIZER;CN="Gene and Jeri McFadden":MAILTO:geneandjeri@twodragonstaichi.com
END:VEVENT
BEGIN:VEVENT
DTSTART;TZID=America/New_York:20251120T183000
DTEND;TZID=America/New_York:20251120T193000
DTSTAMP:20260419T180501
CREATED:20220825T020406Z
LAST-MODIFIED:20240511T125159Z
UID:10000261-1763663400-1763667000@twodragonstaichi.com
SUMMARY:Tai Chi at Centerville One Stop
DESCRIPTION:Teaching the Yang 10 form.\nYou must register for this class with the One Stop Office.\nA new sessions starts every month – except for November and December.\nYou can call 678-277-0228 for information and registration.
URL:https://twodragonstaichi.com/event/tai-chi-at-centerville-one-stop/2025-11-20/
LOCATION:Centerville One Stop\, 3025 Bethany Church Rd\, Snellville\, GA\, 30039\, United States
ORGANIZER;CN="Gene and Jeri McFadden":MAILTO:geneandjeri@twodragonstaichi.com
END:VEVENT
BEGIN:VEVENT
DTSTART;TZID=America/New_York:20251124T130000
DTEND;TZID=America/New_York:20251124T140000
DTSTAMP:20260419T180501
CREATED:20240511T131753Z
LAST-MODIFIED:20240511T131830Z
UID:10001851-1763989200-1763992800@twodragonstaichi.com
SUMMARY:Tai Chi at the Lilburn Activity Center
DESCRIPTION:Tai Chi at the GWINNETT COUNTY Lilburn Activity Building.\nTeaching the Yang 10 and 24 forms.\nPlease contact us for information.
URL:https://twodragonstaichi.com/event/3735/2025-11-24/
END:VEVENT
BEGIN:VEVENT
DTSTART;TZID=America/New_York:20251125T100000
DTEND;TZID=America/New_York:20251125T110000
DTSTAMP:20260419T180501
CREATED:20220825T014919Z
LAST-MODIFIED:20240511T194453Z
UID:10001590-1764064800-1764068400@twodragonstaichi.com
SUMMARY:Tai Chi at the Bridge At Austin
DESCRIPTION:Teaching Qigong and Therapeutic Tai Chi\nAll classes are currently via ZOOM.\nPlease contact us for information.
URL:https://twodragonstaichi.com/event/tai-chi-at-the-bridge-at-austin/2025-11-25/
ORGANIZER;CN="Gene and Jeri McFadden":MAILTO:geneandjeri@twodragonstaichi.com
END:VEVENT
BEGIN:VEVENT
DTSTART;TZID=America/New_York:20251126T100000
DTEND;TZID=America/New_York:20251126T110000
DTSTAMP:20260419T180502
CREATED:20220825T015554Z
LAST-MODIFIED:20240511T131445Z
UID:10001258-1764151200-1764154800@twodragonstaichi.com
SUMMARY:Tai Chi at the American Legion in Loganville
DESCRIPTION:Teaching the Yang 24 form.\nOpen to veterans and non-veterans.\nPlease contact us for information.
URL:https://twodragonstaichi.com/event/tai-chi-at-the-american-legion-in-loganville/2025-11-26/
LOCATION:Loganville American Legion\, 4635 Highway 78\, Loganville\, GA\, 30052\, United States
ORGANIZER;CN="Gene and Jeri McFadden":MAILTO:geneandjeri@twodragonstaichi.com
END:VEVENT
BEGIN:VEVENT
DTSTART;TZID=America/New_York:20251126T120000
DTEND;TZID=America/New_York:20251126T130000
DTSTAMP:20260419T180502
CREATED:20220825T015911Z
LAST-MODIFIED:20240511T194539Z
UID:10000926-1764158400-1764162000@twodragonstaichi.com
SUMMARY:Seated Qigong at the Bridge At Austin
DESCRIPTION:Teaching a seated Qigong class.\nZOOM session.\nContact us for more information.
URL:https://twodragonstaichi.com/event/seated-qigong-at-the-bridge-at-austin/2025-11-26/
ORGANIZER;CN="Gene and Jeri McFadden":MAILTO:geneandjeri@twodragonstaichi.com
END:VEVENT
BEGIN:VEVENT
DTSTART;TZID=America/New_York:20251127T093000
DTEND;TZID=America/New_York:20251127T103000
DTSTAMP:20260419T180502
CREATED:20220825T020112Z
LAST-MODIFIED:20240511T194412Z
UID:10000594-1764235800-1764239400@twodragonstaichi.com
SUMMARY:Tai Chi at Two Dragons Tai Chi
DESCRIPTION:Teaching Therapeutic Tai Chi.\nClass is via ZOOM.\nPlease contact us for more information.
URL:https://twodragonstaichi.com/event/tai-chi-at-lay-it-down-fitness-2/2025-11-27/
ORGANIZER;CN="Gene and Jeri McFadden":MAILTO:geneandjeri@twodragonstaichi.com
END:VEVENT
BEGIN:VEVENT
DTSTART;TZID=America/New_York:20251127T183000
DTEND;TZID=America/New_York:20251127T193000
DTSTAMP:20260419T180502
CREATED:20220825T020406Z
LAST-MODIFIED:20240511T125159Z
UID:10000262-1764268200-1764271800@twodragonstaichi.com
SUMMARY:Tai Chi at Centerville One Stop
DESCRIPTION:Teaching the Yang 10 form.\nYou must register for this class with the One Stop Office.\nA new sessions starts every month – except for November and December.\nYou can call 678-277-0228 for information and registration.
URL:https://twodragonstaichi.com/event/tai-chi-at-centerville-one-stop/2025-11-27/
LOCATION:Centerville One Stop\, 3025 Bethany Church Rd\, Snellville\, GA\, 30039\, United States
ORGANIZER;CN="Gene and Jeri McFadden":MAILTO:geneandjeri@twodragonstaichi.com
END:VEVENT
BEGIN:VEVENT
DTSTART;TZID=America/New_York:20251201T130000
DTEND;TZID=America/New_York:20251201T140000
DTSTAMP:20260419T180502
CREATED:20240511T131753Z
LAST-MODIFIED:20240511T131830Z
UID:10001852-1764594000-1764597600@twodragonstaichi.com
SUMMARY:Tai Chi at the Lilburn Activity Center
DESCRIPTION:Tai Chi at the GWINNETT COUNTY Lilburn Activity Building.\nTeaching the Yang 10 and 24 forms.\nPlease contact us for information.
URL:https://twodragonstaichi.com/event/3735/2025-12-01/
END:VEVENT
BEGIN:VEVENT
DTSTART;TZID=America/New_York:20251202T100000
DTEND;TZID=America/New_York:20251202T110000
DTSTAMP:20260419T180502
CREATED:20220825T014919Z
LAST-MODIFIED:20240511T194453Z
UID:10001591-1764669600-1764673200@twodragonstaichi.com
SUMMARY:Tai Chi at the Bridge At Austin
DESCRIPTION:Teaching Qigong and Therapeutic Tai Chi\nAll classes are currently via ZOOM.\nPlease contact us for information.
URL:https://twodragonstaichi.com/event/tai-chi-at-the-bridge-at-austin/2025-12-02/
ORGANIZER;CN="Gene and Jeri McFadden":MAILTO:geneandjeri@twodragonstaichi.com
END:VEVENT
BEGIN:VEVENT
DTSTART;TZID=America/New_York:20251203T100000
DTEND;TZID=America/New_York:20251203T110000
DTSTAMP:20260419T180502
CREATED:20220825T015554Z
LAST-MODIFIED:20240511T131445Z
UID:10001259-1764756000-1764759600@twodragonstaichi.com
SUMMARY:Tai Chi at the American Legion in Loganville
DESCRIPTION:Teaching the Yang 24 form.\nOpen to veterans and non-veterans.\nPlease contact us for information.
URL:https://twodragonstaichi.com/event/tai-chi-at-the-american-legion-in-loganville/2025-12-03/
LOCATION:Loganville American Legion\, 4635 Highway 78\, Loganville\, GA\, 30052\, United States
ORGANIZER;CN="Gene and Jeri McFadden":MAILTO:geneandjeri@twodragonstaichi.com
END:VEVENT
BEGIN:VEVENT
DTSTART;TZID=America/New_York:20251203T120000
DTEND;TZID=America/New_York:20251203T130000
DTSTAMP:20260419T180502
CREATED:20220825T015911Z
LAST-MODIFIED:20240511T194539Z
UID:10000927-1764763200-1764766800@twodragonstaichi.com
SUMMARY:Seated Qigong at the Bridge At Austin
DESCRIPTION:Teaching a seated Qigong class.\nZOOM session.\nContact us for more information.
URL:https://twodragonstaichi.com/event/seated-qigong-at-the-bridge-at-austin/2025-12-03/
ORGANIZER;CN="Gene and Jeri McFadden":MAILTO:geneandjeri@twodragonstaichi.com
END:VEVENT
BEGIN:VEVENT
DTSTART;TZID=America/New_York:20251204T093000
DTEND;TZID=America/New_York:20251204T103000
DTSTAMP:20260419T180502
CREATED:20220825T020112Z
LAST-MODIFIED:20240511T194412Z
UID:10000595-1764840600-1764844200@twodragonstaichi.com
SUMMARY:Tai Chi at Two Dragons Tai Chi
DESCRIPTION:Teaching Therapeutic Tai Chi.\nClass is via ZOOM.\nPlease contact us for more information.
URL:https://twodragonstaichi.com/event/tai-chi-at-lay-it-down-fitness-2/2025-12-04/
ORGANIZER;CN="Gene and Jeri McFadden":MAILTO:geneandjeri@twodragonstaichi.com
END:VEVENT
BEGIN:VEVENT
DTSTART;TZID=America/New_York:20251204T183000
DTEND;TZID=America/New_York:20251204T193000
DTSTAMP:20260419T180502
CREATED:20220825T020406Z
LAST-MODIFIED:20240511T125159Z
UID:10000263-1764873000-1764876600@twodragonstaichi.com
SUMMARY:Tai Chi at Centerville One Stop
DESCRIPTION:Teaching the Yang 10 form.\nYou must register for this class with the One Stop Office.\nA new sessions starts every month – except for November and December.\nYou can call 678-277-0228 for information and registration.
URL:https://twodragonstaichi.com/event/tai-chi-at-centerville-one-stop/2025-12-04/
LOCATION:Centerville One Stop\, 3025 Bethany Church Rd\, Snellville\, GA\, 30039\, United States
ORGANIZER;CN="Gene and Jeri McFadden":MAILTO:geneandjeri@twodragonstaichi.com
END:VEVENT
BEGIN:VEVENT
DTSTART;TZID=America/New_York:20251208T130000
DTEND;TZID=America/New_York:20251208T140000
DTSTAMP:20260419T180502
CREATED:20240511T131753Z
LAST-MODIFIED:20240511T131830Z
UID:10001853-1765198800-1765202400@twodragonstaichi.com
SUMMARY:Tai Chi at the Lilburn Activity Center
DESCRIPTION:Tai Chi at the GWINNETT COUNTY Lilburn Activity Building.\nTeaching the Yang 10 and 24 forms.\nPlease contact us for information.
URL:https://twodragonstaichi.com/event/3735/2025-12-08/
END:VEVENT
BEGIN:VEVENT
DTSTART;TZID=America/New_York:20251209T100000
DTEND;TZID=America/New_York:20251209T110000
DTSTAMP:20260419T180502
CREATED:20220825T014919Z
LAST-MODIFIED:20240511T194453Z
UID:10001592-1765274400-1765278000@twodragonstaichi.com
SUMMARY:Tai Chi at the Bridge At Austin
DESCRIPTION:Teaching Qigong and Therapeutic Tai Chi\nAll classes are currently via ZOOM.\nPlease contact us for information.
URL:https://twodragonstaichi.com/event/tai-chi-at-the-bridge-at-austin/2025-12-09/
ORGANIZER;CN="Gene and Jeri McFadden":MAILTO:geneandjeri@twodragonstaichi.com
END:VEVENT
BEGIN:VEVENT
DTSTART;TZID=America/New_York:20251210T100000
DTEND;TZID=America/New_York:20251210T110000
DTSTAMP:20260419T180502
CREATED:20220825T015554Z
LAST-MODIFIED:20240511T131445Z
UID:10001260-1765360800-1765364400@twodragonstaichi.com
SUMMARY:Tai Chi at the American Legion in Loganville
DESCRIPTION:Teaching the Yang 24 form.\nOpen to veterans and non-veterans.\nPlease contact us for information.
URL:https://twodragonstaichi.com/event/tai-chi-at-the-american-legion-in-loganville/2025-12-10/
LOCATION:Loganville American Legion\, 4635 Highway 78\, Loganville\, GA\, 30052\, United States
ORGANIZER;CN="Gene and Jeri McFadden":MAILTO:geneandjeri@twodragonstaichi.com
END:VEVENT
BEGIN:VEVENT
DTSTART;TZID=America/New_York:20251210T120000
DTEND;TZID=America/New_York:20251210T130000
DTSTAMP:20260419T180502
CREATED:20220825T015911Z
LAST-MODIFIED:20240511T194539Z
UID:10000928-1765368000-1765371600@twodragonstaichi.com
SUMMARY:Seated Qigong at the Bridge At Austin
DESCRIPTION:Teaching a seated Qigong class.\nZOOM session.\nContact us for more information.
URL:https://twodragonstaichi.com/event/seated-qigong-at-the-bridge-at-austin/2025-12-10/
ORGANIZER;CN="Gene and Jeri McFadden":MAILTO:geneandjeri@twodragonstaichi.com
END:VEVENT
END:VCALENDAR