BEGIN:VCALENDAR
VERSION:2.0
PRODID:-//Two Dragons Tai Chi - ECPv6.15.20//NONSGML v1.0//EN
CALSCALE:GREGORIAN
METHOD:PUBLISH
X-WR-CALNAME:Two Dragons Tai Chi
X-ORIGINAL-URL:https://twodragonstaichi.com
X-WR-CALDESC:Events for Two Dragons Tai Chi
REFRESH-INTERVAL;VALUE=DURATION:PT1H
X-Robots-Tag:noindex
X-PUBLISHED-TTL:PT1H
BEGIN:VTIMEZONE
TZID:America/New_York
BEGIN:DAYLIGHT
TZOFFSETFROM:-0500
TZOFFSETTO:-0400
TZNAME:EDT
DTSTART:20250309T070000
END:DAYLIGHT
BEGIN:STANDARD
TZOFFSETFROM:-0400
TZOFFSETTO:-0500
TZNAME:EST
DTSTART:20251102T060000
END:STANDARD
BEGIN:DAYLIGHT
TZOFFSETFROM:-0500
TZOFFSETTO:-0400
TZNAME:EDT
DTSTART:20260308T070000
END:DAYLIGHT
BEGIN:STANDARD
TZOFFSETFROM:-0400
TZOFFSETTO:-0500
TZNAME:EST
DTSTART:20261101T060000
END:STANDARD
BEGIN:DAYLIGHT
TZOFFSETFROM:-0500
TZOFFSETTO:-0400
TZNAME:EDT
DTSTART:20270314T070000
END:DAYLIGHT
BEGIN:STANDARD
TZOFFSETFROM:-0400
TZOFFSETTO:-0500
TZNAME:EST
DTSTART:20271107T060000
END:STANDARD
END:VTIMEZONE
BEGIN:VEVENT
DTSTART;TZID=America/New_York:20260805T120000
DTEND;TZID=America/New_York:20260805T130000
DTSTAMP:20260419T194937
CREATED:20220825T015911Z
LAST-MODIFIED:20240511T194539Z
UID:10000962-1785931200-1785934800@twodragonstaichi.com
SUMMARY:Seated Qigong at the Bridge At Austin
DESCRIPTION:Teaching a seated Qigong class.\nZOOM session.\nContact us for more information.
URL:https://twodragonstaichi.com/event/seated-qigong-at-the-bridge-at-austin/2026-08-05/
ORGANIZER;CN="Gene and Jeri McFadden":MAILTO:geneandjeri@twodragonstaichi.com
END:VEVENT
BEGIN:VEVENT
DTSTART;TZID=America/New_York:20260805T100000
DTEND;TZID=America/New_York:20260805T110000
DTSTAMP:20260419T194937
CREATED:20220825T015554Z
LAST-MODIFIED:20240511T131445Z
UID:10001294-1785924000-1785927600@twodragonstaichi.com
SUMMARY:Tai Chi at the American Legion in Loganville
DESCRIPTION:Teaching the Yang 24 form.\nOpen to veterans and non-veterans.\nPlease contact us for information.
URL:https://twodragonstaichi.com/event/tai-chi-at-the-american-legion-in-loganville/2026-08-05/
LOCATION:Loganville American Legion\, 4635 Highway 78\, Loganville\, GA\, 30052\, United States
ORGANIZER;CN="Gene and Jeri McFadden":MAILTO:geneandjeri@twodragonstaichi.com
END:VEVENT
BEGIN:VEVENT
DTSTART;TZID=America/New_York:20260804T100000
DTEND;TZID=America/New_York:20260804T110000
DTSTAMP:20260419T194937
CREATED:20220825T014919Z
LAST-MODIFIED:20240511T194453Z
UID:10001626-1785837600-1785841200@twodragonstaichi.com
SUMMARY:Tai Chi at the Bridge At Austin
DESCRIPTION:Teaching Qigong and Therapeutic Tai Chi\nAll classes are currently via ZOOM.\nPlease contact us for information.
URL:https://twodragonstaichi.com/event/tai-chi-at-the-bridge-at-austin/2026-08-04/
ORGANIZER;CN="Gene and Jeri McFadden":MAILTO:geneandjeri@twodragonstaichi.com
END:VEVENT
BEGIN:VEVENT
DTSTART;TZID=America/New_York:20260803T130000
DTEND;TZID=America/New_York:20260803T140000
DTSTAMP:20260419T194937
CREATED:20240511T131753Z
LAST-MODIFIED:20240511T131830Z
UID:10001887-1785762000-1785765600@twodragonstaichi.com
SUMMARY:Tai Chi at the Lilburn Activity Center
DESCRIPTION:Tai Chi at the GWINNETT COUNTY Lilburn Activity Building.\nTeaching the Yang 10 and 24 forms.\nPlease contact us for information.
URL:https://twodragonstaichi.com/event/3735/2026-08-03/
END:VEVENT
BEGIN:VEVENT
DTSTART;TZID=America/New_York:20260730T183000
DTEND;TZID=America/New_York:20260730T193000
DTSTAMP:20260419T194937
CREATED:20220825T020406Z
LAST-MODIFIED:20240511T125159Z
UID:10000297-1785436200-1785439800@twodragonstaichi.com
SUMMARY:Tai Chi at Centerville One Stop
DESCRIPTION:Teaching the Yang 10 form.\nYou must register for this class with the One Stop Office.\nA new sessions starts every month – except for November and December.\nYou can call 678-277-0228 for information and registration.
URL:https://twodragonstaichi.com/event/tai-chi-at-centerville-one-stop/2026-07-30/
LOCATION:Centerville One Stop\, 3025 Bethany Church Rd\, Snellville\, GA\, 30039\, United States
ORGANIZER;CN="Gene and Jeri McFadden":MAILTO:geneandjeri@twodragonstaichi.com
END:VEVENT
BEGIN:VEVENT
DTSTART;TZID=America/New_York:20260730T093000
DTEND;TZID=America/New_York:20260730T103000
DTSTAMP:20260419T194937
CREATED:20220825T020112Z
LAST-MODIFIED:20240511T194412Z
UID:10000629-1785403800-1785407400@twodragonstaichi.com
SUMMARY:Tai Chi at Two Dragons Tai Chi
DESCRIPTION:Teaching Therapeutic Tai Chi.\nClass is via ZOOM.\nPlease contact us for more information.
URL:https://twodragonstaichi.com/event/tai-chi-at-lay-it-down-fitness-2/2026-07-30/
ORGANIZER;CN="Gene and Jeri McFadden":MAILTO:geneandjeri@twodragonstaichi.com
END:VEVENT
BEGIN:VEVENT
DTSTART;TZID=America/New_York:20260729T120000
DTEND;TZID=America/New_York:20260729T130000
DTSTAMP:20260419T194937
CREATED:20220825T015911Z
LAST-MODIFIED:20240511T194539Z
UID:10000961-1785326400-1785330000@twodragonstaichi.com
SUMMARY:Seated Qigong at the Bridge At Austin
DESCRIPTION:Teaching a seated Qigong class.\nZOOM session.\nContact us for more information.
URL:https://twodragonstaichi.com/event/seated-qigong-at-the-bridge-at-austin/2026-07-29/
ORGANIZER;CN="Gene and Jeri McFadden":MAILTO:geneandjeri@twodragonstaichi.com
END:VEVENT
BEGIN:VEVENT
DTSTART;TZID=America/New_York:20260729T100000
DTEND;TZID=America/New_York:20260729T110000
DTSTAMP:20260419T194937
CREATED:20220825T015554Z
LAST-MODIFIED:20240511T131445Z
UID:10001293-1785319200-1785322800@twodragonstaichi.com
SUMMARY:Tai Chi at the American Legion in Loganville
DESCRIPTION:Teaching the Yang 24 form.\nOpen to veterans and non-veterans.\nPlease contact us for information.
URL:https://twodragonstaichi.com/event/tai-chi-at-the-american-legion-in-loganville/2026-07-29/
LOCATION:Loganville American Legion\, 4635 Highway 78\, Loganville\, GA\, 30052\, United States
ORGANIZER;CN="Gene and Jeri McFadden":MAILTO:geneandjeri@twodragonstaichi.com
END:VEVENT
BEGIN:VEVENT
DTSTART;TZID=America/New_York:20260728T100000
DTEND;TZID=America/New_York:20260728T110000
DTSTAMP:20260419T194937
CREATED:20220825T014919Z
LAST-MODIFIED:20240511T194453Z
UID:10001625-1785232800-1785236400@twodragonstaichi.com
SUMMARY:Tai Chi at the Bridge At Austin
DESCRIPTION:Teaching Qigong and Therapeutic Tai Chi\nAll classes are currently via ZOOM.\nPlease contact us for information.
URL:https://twodragonstaichi.com/event/tai-chi-at-the-bridge-at-austin/2026-07-28/
ORGANIZER;CN="Gene and Jeri McFadden":MAILTO:geneandjeri@twodragonstaichi.com
END:VEVENT
BEGIN:VEVENT
DTSTART;TZID=America/New_York:20260727T130000
DTEND;TZID=America/New_York:20260727T140000
DTSTAMP:20260419T194937
CREATED:20240511T131753Z
LAST-MODIFIED:20240511T131830Z
UID:10001886-1785157200-1785160800@twodragonstaichi.com
SUMMARY:Tai Chi at the Lilburn Activity Center
DESCRIPTION:Tai Chi at the GWINNETT COUNTY Lilburn Activity Building.\nTeaching the Yang 10 and 24 forms.\nPlease contact us for information.
URL:https://twodragonstaichi.com/event/3735/2026-07-27/
END:VEVENT
BEGIN:VEVENT
DTSTART;TZID=America/New_York:20260723T183000
DTEND;TZID=America/New_York:20260723T193000
DTSTAMP:20260419T194937
CREATED:20220825T020406Z
LAST-MODIFIED:20240511T125159Z
UID:10000296-1784831400-1784835000@twodragonstaichi.com
SUMMARY:Tai Chi at Centerville One Stop
DESCRIPTION:Teaching the Yang 10 form.\nYou must register for this class with the One Stop Office.\nA new sessions starts every month – except for November and December.\nYou can call 678-277-0228 for information and registration.
URL:https://twodragonstaichi.com/event/tai-chi-at-centerville-one-stop/2026-07-23/
LOCATION:Centerville One Stop\, 3025 Bethany Church Rd\, Snellville\, GA\, 30039\, United States
ORGANIZER;CN="Gene and Jeri McFadden":MAILTO:geneandjeri@twodragonstaichi.com
END:VEVENT
BEGIN:VEVENT
DTSTART;TZID=America/New_York:20260723T093000
DTEND;TZID=America/New_York:20260723T103000
DTSTAMP:20260419T194937
CREATED:20220825T020112Z
LAST-MODIFIED:20240511T194412Z
UID:10000628-1784799000-1784802600@twodragonstaichi.com
SUMMARY:Tai Chi at Two Dragons Tai Chi
DESCRIPTION:Teaching Therapeutic Tai Chi.\nClass is via ZOOM.\nPlease contact us for more information.
URL:https://twodragonstaichi.com/event/tai-chi-at-lay-it-down-fitness-2/2026-07-23/
ORGANIZER;CN="Gene and Jeri McFadden":MAILTO:geneandjeri@twodragonstaichi.com
END:VEVENT
BEGIN:VEVENT
DTSTART;TZID=America/New_York:20260722T120000
DTEND;TZID=America/New_York:20260722T130000
DTSTAMP:20260419T194937
CREATED:20220825T015911Z
LAST-MODIFIED:20240511T194539Z
UID:10000960-1784721600-1784725200@twodragonstaichi.com
SUMMARY:Seated Qigong at the Bridge At Austin
DESCRIPTION:Teaching a seated Qigong class.\nZOOM session.\nContact us for more information.
URL:https://twodragonstaichi.com/event/seated-qigong-at-the-bridge-at-austin/2026-07-22/
ORGANIZER;CN="Gene and Jeri McFadden":MAILTO:geneandjeri@twodragonstaichi.com
END:VEVENT
BEGIN:VEVENT
DTSTART;TZID=America/New_York:20260722T100000
DTEND;TZID=America/New_York:20260722T110000
DTSTAMP:20260419T194937
CREATED:20220825T015554Z
LAST-MODIFIED:20240511T131445Z
UID:10001292-1784714400-1784718000@twodragonstaichi.com
SUMMARY:Tai Chi at the American Legion in Loganville
DESCRIPTION:Teaching the Yang 24 form.\nOpen to veterans and non-veterans.\nPlease contact us for information.
URL:https://twodragonstaichi.com/event/tai-chi-at-the-american-legion-in-loganville/2026-07-22/
LOCATION:Loganville American Legion\, 4635 Highway 78\, Loganville\, GA\, 30052\, United States
ORGANIZER;CN="Gene and Jeri McFadden":MAILTO:geneandjeri@twodragonstaichi.com
END:VEVENT
BEGIN:VEVENT
DTSTART;TZID=America/New_York:20260721T100000
DTEND;TZID=America/New_York:20260721T110000
DTSTAMP:20260419T194937
CREATED:20220825T014919Z
LAST-MODIFIED:20240511T194453Z
UID:10001624-1784628000-1784631600@twodragonstaichi.com
SUMMARY:Tai Chi at the Bridge At Austin
DESCRIPTION:Teaching Qigong and Therapeutic Tai Chi\nAll classes are currently via ZOOM.\nPlease contact us for information.
URL:https://twodragonstaichi.com/event/tai-chi-at-the-bridge-at-austin/2026-07-21/
ORGANIZER;CN="Gene and Jeri McFadden":MAILTO:geneandjeri@twodragonstaichi.com
END:VEVENT
BEGIN:VEVENT
DTSTART;TZID=America/New_York:20260720T130000
DTEND;TZID=America/New_York:20260720T140000
DTSTAMP:20260419T194937
CREATED:20240511T131753Z
LAST-MODIFIED:20240511T131830Z
UID:10001885-1784552400-1784556000@twodragonstaichi.com
SUMMARY:Tai Chi at the Lilburn Activity Center
DESCRIPTION:Tai Chi at the GWINNETT COUNTY Lilburn Activity Building.\nTeaching the Yang 10 and 24 forms.\nPlease contact us for information.
URL:https://twodragonstaichi.com/event/3735/2026-07-20/
END:VEVENT
BEGIN:VEVENT
DTSTART;TZID=America/New_York:20260716T183000
DTEND;TZID=America/New_York:20260716T193000
DTSTAMP:20260419T194937
CREATED:20220825T020406Z
LAST-MODIFIED:20240511T125159Z
UID:10000295-1784226600-1784230200@twodragonstaichi.com
SUMMARY:Tai Chi at Centerville One Stop
DESCRIPTION:Teaching the Yang 10 form.\nYou must register for this class with the One Stop Office.\nA new sessions starts every month – except for November and December.\nYou can call 678-277-0228 for information and registration.
URL:https://twodragonstaichi.com/event/tai-chi-at-centerville-one-stop/2026-07-16/
LOCATION:Centerville One Stop\, 3025 Bethany Church Rd\, Snellville\, GA\, 30039\, United States
ORGANIZER;CN="Gene and Jeri McFadden":MAILTO:geneandjeri@twodragonstaichi.com
END:VEVENT
BEGIN:VEVENT
DTSTART;TZID=America/New_York:20260716T093000
DTEND;TZID=America/New_York:20260716T103000
DTSTAMP:20260419T194937
CREATED:20220825T020112Z
LAST-MODIFIED:20240511T194412Z
UID:10000627-1784194200-1784197800@twodragonstaichi.com
SUMMARY:Tai Chi at Two Dragons Tai Chi
DESCRIPTION:Teaching Therapeutic Tai Chi.\nClass is via ZOOM.\nPlease contact us for more information.
URL:https://twodragonstaichi.com/event/tai-chi-at-lay-it-down-fitness-2/2026-07-16/
ORGANIZER;CN="Gene and Jeri McFadden":MAILTO:geneandjeri@twodragonstaichi.com
END:VEVENT
BEGIN:VEVENT
DTSTART;TZID=America/New_York:20260715T120000
DTEND;TZID=America/New_York:20260715T130000
DTSTAMP:20260419T194937
CREATED:20220825T015911Z
LAST-MODIFIED:20240511T194539Z
UID:10000959-1784116800-1784120400@twodragonstaichi.com
SUMMARY:Seated Qigong at the Bridge At Austin
DESCRIPTION:Teaching a seated Qigong class.\nZOOM session.\nContact us for more information.
URL:https://twodragonstaichi.com/event/seated-qigong-at-the-bridge-at-austin/2026-07-15/
ORGANIZER;CN="Gene and Jeri McFadden":MAILTO:geneandjeri@twodragonstaichi.com
END:VEVENT
BEGIN:VEVENT
DTSTART;TZID=America/New_York:20260715T100000
DTEND;TZID=America/New_York:20260715T110000
DTSTAMP:20260419T194937
CREATED:20220825T015554Z
LAST-MODIFIED:20240511T131445Z
UID:10001291-1784109600-1784113200@twodragonstaichi.com
SUMMARY:Tai Chi at the American Legion in Loganville
DESCRIPTION:Teaching the Yang 24 form.\nOpen to veterans and non-veterans.\nPlease contact us for information.
URL:https://twodragonstaichi.com/event/tai-chi-at-the-american-legion-in-loganville/2026-07-15/
LOCATION:Loganville American Legion\, 4635 Highway 78\, Loganville\, GA\, 30052\, United States
ORGANIZER;CN="Gene and Jeri McFadden":MAILTO:geneandjeri@twodragonstaichi.com
END:VEVENT
BEGIN:VEVENT
DTSTART;TZID=America/New_York:20260714T100000
DTEND;TZID=America/New_York:20260714T110000
DTSTAMP:20260419T194937
CREATED:20220825T014919Z
LAST-MODIFIED:20240511T194453Z
UID:10001623-1784023200-1784026800@twodragonstaichi.com
SUMMARY:Tai Chi at the Bridge At Austin
DESCRIPTION:Teaching Qigong and Therapeutic Tai Chi\nAll classes are currently via ZOOM.\nPlease contact us for information.
URL:https://twodragonstaichi.com/event/tai-chi-at-the-bridge-at-austin/2026-07-14/
ORGANIZER;CN="Gene and Jeri McFadden":MAILTO:geneandjeri@twodragonstaichi.com
END:VEVENT
BEGIN:VEVENT
DTSTART;TZID=America/New_York:20260713T130000
DTEND;TZID=America/New_York:20260713T140000
DTSTAMP:20260419T194937
CREATED:20240511T131753Z
LAST-MODIFIED:20240511T131830Z
UID:10001884-1783947600-1783951200@twodragonstaichi.com
SUMMARY:Tai Chi at the Lilburn Activity Center
DESCRIPTION:Tai Chi at the GWINNETT COUNTY Lilburn Activity Building.\nTeaching the Yang 10 and 24 forms.\nPlease contact us for information.
URL:https://twodragonstaichi.com/event/3735/2026-07-13/
END:VEVENT
BEGIN:VEVENT
DTSTART;TZID=America/New_York:20260709T183000
DTEND;TZID=America/New_York:20260709T193000
DTSTAMP:20260419T194937
CREATED:20220825T020406Z
LAST-MODIFIED:20240511T125159Z
UID:10000294-1783621800-1783625400@twodragonstaichi.com
SUMMARY:Tai Chi at Centerville One Stop
DESCRIPTION:Teaching the Yang 10 form.\nYou must register for this class with the One Stop Office.\nA new sessions starts every month – except for November and December.\nYou can call 678-277-0228 for information and registration.
URL:https://twodragonstaichi.com/event/tai-chi-at-centerville-one-stop/2026-07-09/
LOCATION:Centerville One Stop\, 3025 Bethany Church Rd\, Snellville\, GA\, 30039\, United States
ORGANIZER;CN="Gene and Jeri McFadden":MAILTO:geneandjeri@twodragonstaichi.com
END:VEVENT
BEGIN:VEVENT
DTSTART;TZID=America/New_York:20260709T093000
DTEND;TZID=America/New_York:20260709T103000
DTSTAMP:20260419T194937
CREATED:20220825T020112Z
LAST-MODIFIED:20240511T194412Z
UID:10000626-1783589400-1783593000@twodragonstaichi.com
SUMMARY:Tai Chi at Two Dragons Tai Chi
DESCRIPTION:Teaching Therapeutic Tai Chi.\nClass is via ZOOM.\nPlease contact us for more information.
URL:https://twodragonstaichi.com/event/tai-chi-at-lay-it-down-fitness-2/2026-07-09/
ORGANIZER;CN="Gene and Jeri McFadden":MAILTO:geneandjeri@twodragonstaichi.com
END:VEVENT
BEGIN:VEVENT
DTSTART;TZID=America/New_York:20260708T120000
DTEND;TZID=America/New_York:20260708T130000
DTSTAMP:20260419T194937
CREATED:20220825T015911Z
LAST-MODIFIED:20240511T194539Z
UID:10000958-1783512000-1783515600@twodragonstaichi.com
SUMMARY:Seated Qigong at the Bridge At Austin
DESCRIPTION:Teaching a seated Qigong class.\nZOOM session.\nContact us for more information.
URL:https://twodragonstaichi.com/event/seated-qigong-at-the-bridge-at-austin/2026-07-08/
ORGANIZER;CN="Gene and Jeri McFadden":MAILTO:geneandjeri@twodragonstaichi.com
END:VEVENT
BEGIN:VEVENT
DTSTART;TZID=America/New_York:20260708T100000
DTEND;TZID=America/New_York:20260708T110000
DTSTAMP:20260419T194937
CREATED:20220825T015554Z
LAST-MODIFIED:20240511T131445Z
UID:10001290-1783504800-1783508400@twodragonstaichi.com
SUMMARY:Tai Chi at the American Legion in Loganville
DESCRIPTION:Teaching the Yang 24 form.\nOpen to veterans and non-veterans.\nPlease contact us for information.
URL:https://twodragonstaichi.com/event/tai-chi-at-the-american-legion-in-loganville/2026-07-08/
LOCATION:Loganville American Legion\, 4635 Highway 78\, Loganville\, GA\, 30052\, United States
ORGANIZER;CN="Gene and Jeri McFadden":MAILTO:geneandjeri@twodragonstaichi.com
END:VEVENT
BEGIN:VEVENT
DTSTART;TZID=America/New_York:20260707T100000
DTEND;TZID=America/New_York:20260707T110000
DTSTAMP:20260419T194937
CREATED:20220825T014919Z
LAST-MODIFIED:20240511T194453Z
UID:10001622-1783418400-1783422000@twodragonstaichi.com
SUMMARY:Tai Chi at the Bridge At Austin
DESCRIPTION:Teaching Qigong and Therapeutic Tai Chi\nAll classes are currently via ZOOM.\nPlease contact us for information.
URL:https://twodragonstaichi.com/event/tai-chi-at-the-bridge-at-austin/2026-07-07/
ORGANIZER;CN="Gene and Jeri McFadden":MAILTO:geneandjeri@twodragonstaichi.com
END:VEVENT
BEGIN:VEVENT
DTSTART;TZID=America/New_York:20260706T130000
DTEND;TZID=America/New_York:20260706T140000
DTSTAMP:20260419T194937
CREATED:20240511T131753Z
LAST-MODIFIED:20240511T131830Z
UID:10001883-1783342800-1783346400@twodragonstaichi.com
SUMMARY:Tai Chi at the Lilburn Activity Center
DESCRIPTION:Tai Chi at the GWINNETT COUNTY Lilburn Activity Building.\nTeaching the Yang 10 and 24 forms.\nPlease contact us for information.
URL:https://twodragonstaichi.com/event/3735/2026-07-06/
END:VEVENT
BEGIN:VEVENT
DTSTART;TZID=America/New_York:20260702T183000
DTEND;TZID=America/New_York:20260702T193000
DTSTAMP:20260419T194937
CREATED:20220825T020406Z
LAST-MODIFIED:20240511T125159Z
UID:10000293-1783017000-1783020600@twodragonstaichi.com
SUMMARY:Tai Chi at Centerville One Stop
DESCRIPTION:Teaching the Yang 10 form.\nYou must register for this class with the One Stop Office.\nA new sessions starts every month – except for November and December.\nYou can call 678-277-0228 for information and registration.
URL:https://twodragonstaichi.com/event/tai-chi-at-centerville-one-stop/2026-07-02/
LOCATION:Centerville One Stop\, 3025 Bethany Church Rd\, Snellville\, GA\, 30039\, United States
ORGANIZER;CN="Gene and Jeri McFadden":MAILTO:geneandjeri@twodragonstaichi.com
END:VEVENT
BEGIN:VEVENT
DTSTART;TZID=America/New_York:20260702T093000
DTEND;TZID=America/New_York:20260702T103000
DTSTAMP:20260419T194937
CREATED:20220825T020112Z
LAST-MODIFIED:20240511T194412Z
UID:10000625-1782984600-1782988200@twodragonstaichi.com
SUMMARY:Tai Chi at Two Dragons Tai Chi
DESCRIPTION:Teaching Therapeutic Tai Chi.\nClass is via ZOOM.\nPlease contact us for more information.
URL:https://twodragonstaichi.com/event/tai-chi-at-lay-it-down-fitness-2/2026-07-02/
ORGANIZER;CN="Gene and Jeri McFadden":MAILTO:geneandjeri@twodragonstaichi.com
END:VEVENT
END:VCALENDAR