BEGIN:VCALENDAR
VERSION:2.0
PRODID:-//Two Dragons Tai Chi - ECPv6.15.20//NONSGML v1.0//EN
CALSCALE:GREGORIAN
METHOD:PUBLISH
X-ORIGINAL-URL:https://twodragonstaichi.com
X-WR-CALDESC:Events for Two Dragons Tai Chi
REFRESH-INTERVAL;VALUE=DURATION:PT1H
X-Robots-Tag:noindex
X-PUBLISHED-TTL:PT1H
BEGIN:VTIMEZONE
TZID:America/New_York
BEGIN:DAYLIGHT
TZOFFSETFROM:-0500
TZOFFSETTO:-0400
TZNAME:EDT
DTSTART:20270314T070000
END:DAYLIGHT
BEGIN:STANDARD
TZOFFSETFROM:-0400
TZOFFSETTO:-0500
TZNAME:EST
DTSTART:20271107T060000
END:STANDARD
BEGIN:DAYLIGHT
TZOFFSETFROM:-0500
TZOFFSETTO:-0400
TZNAME:EDT
DTSTART:20280312T070000
END:DAYLIGHT
BEGIN:STANDARD
TZOFFSETFROM:-0400
TZOFFSETTO:-0500
TZNAME:EST
DTSTART:20281105T060000
END:STANDARD
BEGIN:DAYLIGHT
TZOFFSETFROM:-0500
TZOFFSETTO:-0400
TZNAME:EDT
DTSTART:20290311T070000
END:DAYLIGHT
BEGIN:STANDARD
TZOFFSETFROM:-0400
TZOFFSETTO:-0500
TZNAME:EST
DTSTART:20291104T060000
END:STANDARD
END:VTIMEZONE
BEGIN:VEVENT
DTSTART;TZID=America/New_York:20280323T183000
DTEND;TZID=America/New_York:20280323T193000
DTSTAMP:20260419T213855
CREATED:20220825T020406Z
LAST-MODIFIED:20240511T125159Z
UID:10000383-1837449000-1837452600@twodragonstaichi.com
SUMMARY:Tai Chi at Centerville One Stop
DESCRIPTION:Teaching the Yang 10 form.\nYou must register for this class with the One Stop Office.\nA new sessions starts every month – except for November and December.\nYou can call 678-277-0228 for information and registration.
URL:https://twodragonstaichi.com/event/tai-chi-at-centerville-one-stop/2028-03-23/
LOCATION:Centerville One Stop\, 3025 Bethany Church Rd\, Snellville\, GA\, 30039\, United States
ORGANIZER;CN="Gene and Jeri McFadden":MAILTO:geneandjeri@twodragonstaichi.com
END:VEVENT
BEGIN:VEVENT
DTSTART;TZID=America/New_York:20280330T183000
DTEND;TZID=America/New_York:20280330T193000
DTSTAMP:20260419T213855
CREATED:20220825T020406Z
LAST-MODIFIED:20240511T125159Z
UID:10000384-1838053800-1838057400@twodragonstaichi.com
SUMMARY:Tai Chi at Centerville One Stop
DESCRIPTION:Teaching the Yang 10 form.\nYou must register for this class with the One Stop Office.\nA new sessions starts every month – except for November and December.\nYou can call 678-277-0228 for information and registration.
URL:https://twodragonstaichi.com/event/tai-chi-at-centerville-one-stop/2028-03-30/
LOCATION:Centerville One Stop\, 3025 Bethany Church Rd\, Snellville\, GA\, 30039\, United States
ORGANIZER;CN="Gene and Jeri McFadden":MAILTO:geneandjeri@twodragonstaichi.com
END:VEVENT
BEGIN:VEVENT
DTSTART;TZID=America/New_York:20280406T183000
DTEND;TZID=America/New_York:20280406T193000
DTSTAMP:20260419T213855
CREATED:20220825T020406Z
LAST-MODIFIED:20240511T125159Z
UID:10000385-1838658600-1838662200@twodragonstaichi.com
SUMMARY:Tai Chi at Centerville One Stop
DESCRIPTION:Teaching the Yang 10 form.\nYou must register for this class with the One Stop Office.\nA new sessions starts every month – except for November and December.\nYou can call 678-277-0228 for information and registration.
URL:https://twodragonstaichi.com/event/tai-chi-at-centerville-one-stop/2028-04-06/
LOCATION:Centerville One Stop\, 3025 Bethany Church Rd\, Snellville\, GA\, 30039\, United States
ORGANIZER;CN="Gene and Jeri McFadden":MAILTO:geneandjeri@twodragonstaichi.com
END:VEVENT
BEGIN:VEVENT
DTSTART;TZID=America/New_York:20280413T183000
DTEND;TZID=America/New_York:20280413T193000
DTSTAMP:20260419T213855
CREATED:20220825T020406Z
LAST-MODIFIED:20240511T125159Z
UID:10000386-1839263400-1839267000@twodragonstaichi.com
SUMMARY:Tai Chi at Centerville One Stop
DESCRIPTION:Teaching the Yang 10 form.\nYou must register for this class with the One Stop Office.\nA new sessions starts every month – except for November and December.\nYou can call 678-277-0228 for information and registration.
URL:https://twodragonstaichi.com/event/tai-chi-at-centerville-one-stop/2028-04-13/
LOCATION:Centerville One Stop\, 3025 Bethany Church Rd\, Snellville\, GA\, 30039\, United States
ORGANIZER;CN="Gene and Jeri McFadden":MAILTO:geneandjeri@twodragonstaichi.com
END:VEVENT
BEGIN:VEVENT
DTSTART;TZID=America/New_York:20280420T183000
DTEND;TZID=America/New_York:20280420T193000
DTSTAMP:20260419T213855
CREATED:20220825T020406Z
LAST-MODIFIED:20240511T125159Z
UID:10000387-1839868200-1839871800@twodragonstaichi.com
SUMMARY:Tai Chi at Centerville One Stop
DESCRIPTION:Teaching the Yang 10 form.\nYou must register for this class with the One Stop Office.\nA new sessions starts every month – except for November and December.\nYou can call 678-277-0228 for information and registration.
URL:https://twodragonstaichi.com/event/tai-chi-at-centerville-one-stop/2028-04-20/
LOCATION:Centerville One Stop\, 3025 Bethany Church Rd\, Snellville\, GA\, 30039\, United States
ORGANIZER;CN="Gene and Jeri McFadden":MAILTO:geneandjeri@twodragonstaichi.com
END:VEVENT
BEGIN:VEVENT
DTSTART;TZID=America/New_York:20280427T183000
DTEND;TZID=America/New_York:20280427T193000
DTSTAMP:20260419T213855
CREATED:20220825T020406Z
LAST-MODIFIED:20240511T125159Z
UID:10000388-1840473000-1840476600@twodragonstaichi.com
SUMMARY:Tai Chi at Centerville One Stop
DESCRIPTION:Teaching the Yang 10 form.\nYou must register for this class with the One Stop Office.\nA new sessions starts every month – except for November and December.\nYou can call 678-277-0228 for information and registration.
URL:https://twodragonstaichi.com/event/tai-chi-at-centerville-one-stop/2028-04-27/
LOCATION:Centerville One Stop\, 3025 Bethany Church Rd\, Snellville\, GA\, 30039\, United States
ORGANIZER;CN="Gene and Jeri McFadden":MAILTO:geneandjeri@twodragonstaichi.com
END:VEVENT
BEGIN:VEVENT
DTSTART;TZID=America/New_York:20280504T183000
DTEND;TZID=America/New_York:20280504T193000
DTSTAMP:20260419T213855
CREATED:20220825T020406Z
LAST-MODIFIED:20240511T125159Z
UID:10000389-1841077800-1841081400@twodragonstaichi.com
SUMMARY:Tai Chi at Centerville One Stop
DESCRIPTION:Teaching the Yang 10 form.\nYou must register for this class with the One Stop Office.\nA new sessions starts every month – except for November and December.\nYou can call 678-277-0228 for information and registration.
URL:https://twodragonstaichi.com/event/tai-chi-at-centerville-one-stop/2028-05-04/
LOCATION:Centerville One Stop\, 3025 Bethany Church Rd\, Snellville\, GA\, 30039\, United States
ORGANIZER;CN="Gene and Jeri McFadden":MAILTO:geneandjeri@twodragonstaichi.com
END:VEVENT
BEGIN:VEVENT
DTSTART;TZID=America/New_York:20280511T183000
DTEND;TZID=America/New_York:20280511T193000
DTSTAMP:20260419T213855
CREATED:20220825T020406Z
LAST-MODIFIED:20240511T125159Z
UID:10000390-1841682600-1841686200@twodragonstaichi.com
SUMMARY:Tai Chi at Centerville One Stop
DESCRIPTION:Teaching the Yang 10 form.\nYou must register for this class with the One Stop Office.\nA new sessions starts every month – except for November and December.\nYou can call 678-277-0228 for information and registration.
URL:https://twodragonstaichi.com/event/tai-chi-at-centerville-one-stop/2028-05-11/
LOCATION:Centerville One Stop\, 3025 Bethany Church Rd\, Snellville\, GA\, 30039\, United States
ORGANIZER;CN="Gene and Jeri McFadden":MAILTO:geneandjeri@twodragonstaichi.com
END:VEVENT
BEGIN:VEVENT
DTSTART;TZID=America/New_York:20280518T183000
DTEND;TZID=America/New_York:20280518T193000
DTSTAMP:20260419T213855
CREATED:20220825T020406Z
LAST-MODIFIED:20240511T125159Z
UID:10000391-1842287400-1842291000@twodragonstaichi.com
SUMMARY:Tai Chi at Centerville One Stop
DESCRIPTION:Teaching the Yang 10 form.\nYou must register for this class with the One Stop Office.\nA new sessions starts every month – except for November and December.\nYou can call 678-277-0228 for information and registration.
URL:https://twodragonstaichi.com/event/tai-chi-at-centerville-one-stop/2028-05-18/
LOCATION:Centerville One Stop\, 3025 Bethany Church Rd\, Snellville\, GA\, 30039\, United States
ORGANIZER;CN="Gene and Jeri McFadden":MAILTO:geneandjeri@twodragonstaichi.com
END:VEVENT
BEGIN:VEVENT
DTSTART;TZID=America/New_York:20280525T183000
DTEND;TZID=America/New_York:20280525T193000
DTSTAMP:20260419T213855
CREATED:20220825T020406Z
LAST-MODIFIED:20240511T125159Z
UID:10000392-1842892200-1842895800@twodragonstaichi.com
SUMMARY:Tai Chi at Centerville One Stop
DESCRIPTION:Teaching the Yang 10 form.\nYou must register for this class with the One Stop Office.\nA new sessions starts every month – except for November and December.\nYou can call 678-277-0228 for information and registration.
URL:https://twodragonstaichi.com/event/tai-chi-at-centerville-one-stop/2028-05-25/
LOCATION:Centerville One Stop\, 3025 Bethany Church Rd\, Snellville\, GA\, 30039\, United States
ORGANIZER;CN="Gene and Jeri McFadden":MAILTO:geneandjeri@twodragonstaichi.com
END:VEVENT
BEGIN:VEVENT
DTSTART;TZID=America/New_York:20280601T183000
DTEND;TZID=America/New_York:20280601T193000
DTSTAMP:20260419T213855
CREATED:20220825T020406Z
LAST-MODIFIED:20240511T125159Z
UID:10000393-1843497000-1843500600@twodragonstaichi.com
SUMMARY:Tai Chi at Centerville One Stop
DESCRIPTION:Teaching the Yang 10 form.\nYou must register for this class with the One Stop Office.\nA new sessions starts every month – except for November and December.\nYou can call 678-277-0228 for information and registration.
URL:https://twodragonstaichi.com/event/tai-chi-at-centerville-one-stop/2028-06-01/
LOCATION:Centerville One Stop\, 3025 Bethany Church Rd\, Snellville\, GA\, 30039\, United States
ORGANIZER;CN="Gene and Jeri McFadden":MAILTO:geneandjeri@twodragonstaichi.com
END:VEVENT
BEGIN:VEVENT
DTSTART;TZID=America/New_York:20280608T183000
DTEND;TZID=America/New_York:20280608T193000
DTSTAMP:20260419T213855
CREATED:20220825T020406Z
LAST-MODIFIED:20240511T125159Z
UID:10000394-1844101800-1844105400@twodragonstaichi.com
SUMMARY:Tai Chi at Centerville One Stop
DESCRIPTION:Teaching the Yang 10 form.\nYou must register for this class with the One Stop Office.\nA new sessions starts every month – except for November and December.\nYou can call 678-277-0228 for information and registration.
URL:https://twodragonstaichi.com/event/tai-chi-at-centerville-one-stop/2028-06-08/
LOCATION:Centerville One Stop\, 3025 Bethany Church Rd\, Snellville\, GA\, 30039\, United States
ORGANIZER;CN="Gene and Jeri McFadden":MAILTO:geneandjeri@twodragonstaichi.com
END:VEVENT
BEGIN:VEVENT
DTSTART;TZID=America/New_York:20280615T183000
DTEND;TZID=America/New_York:20280615T193000
DTSTAMP:20260419T213855
CREATED:20220825T020406Z
LAST-MODIFIED:20240511T125159Z
UID:10000395-1844706600-1844710200@twodragonstaichi.com
SUMMARY:Tai Chi at Centerville One Stop
DESCRIPTION:Teaching the Yang 10 form.\nYou must register for this class with the One Stop Office.\nA new sessions starts every month – except for November and December.\nYou can call 678-277-0228 for information and registration.
URL:https://twodragonstaichi.com/event/tai-chi-at-centerville-one-stop/2028-06-15/
LOCATION:Centerville One Stop\, 3025 Bethany Church Rd\, Snellville\, GA\, 30039\, United States
ORGANIZER;CN="Gene and Jeri McFadden":MAILTO:geneandjeri@twodragonstaichi.com
END:VEVENT
BEGIN:VEVENT
DTSTART;TZID=America/New_York:20280622T183000
DTEND;TZID=America/New_York:20280622T193000
DTSTAMP:20260419T213855
CREATED:20220825T020406Z
LAST-MODIFIED:20240511T125159Z
UID:10000396-1845311400-1845315000@twodragonstaichi.com
SUMMARY:Tai Chi at Centerville One Stop
DESCRIPTION:Teaching the Yang 10 form.\nYou must register for this class with the One Stop Office.\nA new sessions starts every month – except for November and December.\nYou can call 678-277-0228 for information and registration.
URL:https://twodragonstaichi.com/event/tai-chi-at-centerville-one-stop/2028-06-22/
LOCATION:Centerville One Stop\, 3025 Bethany Church Rd\, Snellville\, GA\, 30039\, United States
ORGANIZER;CN="Gene and Jeri McFadden":MAILTO:geneandjeri@twodragonstaichi.com
END:VEVENT
BEGIN:VEVENT
DTSTART;TZID=America/New_York:20280629T183000
DTEND;TZID=America/New_York:20280629T193000
DTSTAMP:20260419T213855
CREATED:20220825T020406Z
LAST-MODIFIED:20240511T125159Z
UID:10000397-1845916200-1845919800@twodragonstaichi.com
SUMMARY:Tai Chi at Centerville One Stop
DESCRIPTION:Teaching the Yang 10 form.\nYou must register for this class with the One Stop Office.\nA new sessions starts every month – except for November and December.\nYou can call 678-277-0228 for information and registration.
URL:https://twodragonstaichi.com/event/tai-chi-at-centerville-one-stop/2028-06-29/
LOCATION:Centerville One Stop\, 3025 Bethany Church Rd\, Snellville\, GA\, 30039\, United States
ORGANIZER;CN="Gene and Jeri McFadden":MAILTO:geneandjeri@twodragonstaichi.com
END:VEVENT
BEGIN:VEVENT
DTSTART;TZID=America/New_York:20280706T183000
DTEND;TZID=America/New_York:20280706T193000
DTSTAMP:20260419T213855
CREATED:20220825T020406Z
LAST-MODIFIED:20240511T125159Z
UID:10000398-1846521000-1846524600@twodragonstaichi.com
SUMMARY:Tai Chi at Centerville One Stop
DESCRIPTION:Teaching the Yang 10 form.\nYou must register for this class with the One Stop Office.\nA new sessions starts every month – except for November and December.\nYou can call 678-277-0228 for information and registration.
URL:https://twodragonstaichi.com/event/tai-chi-at-centerville-one-stop/2028-07-06/
LOCATION:Centerville One Stop\, 3025 Bethany Church Rd\, Snellville\, GA\, 30039\, United States
ORGANIZER;CN="Gene and Jeri McFadden":MAILTO:geneandjeri@twodragonstaichi.com
END:VEVENT
BEGIN:VEVENT
DTSTART;TZID=America/New_York:20280713T183000
DTEND;TZID=America/New_York:20280713T193000
DTSTAMP:20260419T213855
CREATED:20220825T020406Z
LAST-MODIFIED:20240511T125159Z
UID:10000399-1847125800-1847129400@twodragonstaichi.com
SUMMARY:Tai Chi at Centerville One Stop
DESCRIPTION:Teaching the Yang 10 form.\nYou must register for this class with the One Stop Office.\nA new sessions starts every month – except for November and December.\nYou can call 678-277-0228 for information and registration.
URL:https://twodragonstaichi.com/event/tai-chi-at-centerville-one-stop/2028-07-13/
LOCATION:Centerville One Stop\, 3025 Bethany Church Rd\, Snellville\, GA\, 30039\, United States
ORGANIZER;CN="Gene and Jeri McFadden":MAILTO:geneandjeri@twodragonstaichi.com
END:VEVENT
BEGIN:VEVENT
DTSTART;TZID=America/New_York:20280720T183000
DTEND;TZID=America/New_York:20280720T193000
DTSTAMP:20260419T213855
CREATED:20220825T020406Z
LAST-MODIFIED:20240511T125159Z
UID:10000400-1847730600-1847734200@twodragonstaichi.com
SUMMARY:Tai Chi at Centerville One Stop
DESCRIPTION:Teaching the Yang 10 form.\nYou must register for this class with the One Stop Office.\nA new sessions starts every month – except for November and December.\nYou can call 678-277-0228 for information and registration.
URL:https://twodragonstaichi.com/event/tai-chi-at-centerville-one-stop/2028-07-20/
LOCATION:Centerville One Stop\, 3025 Bethany Church Rd\, Snellville\, GA\, 30039\, United States
ORGANIZER;CN="Gene and Jeri McFadden":MAILTO:geneandjeri@twodragonstaichi.com
END:VEVENT
BEGIN:VEVENT
DTSTART;TZID=America/New_York:20280727T183000
DTEND;TZID=America/New_York:20280727T193000
DTSTAMP:20260419T213855
CREATED:20220825T020406Z
LAST-MODIFIED:20240511T125159Z
UID:10000401-1848335400-1848339000@twodragonstaichi.com
SUMMARY:Tai Chi at Centerville One Stop
DESCRIPTION:Teaching the Yang 10 form.\nYou must register for this class with the One Stop Office.\nA new sessions starts every month – except for November and December.\nYou can call 678-277-0228 for information and registration.
URL:https://twodragonstaichi.com/event/tai-chi-at-centerville-one-stop/2028-07-27/
LOCATION:Centerville One Stop\, 3025 Bethany Church Rd\, Snellville\, GA\, 30039\, United States
ORGANIZER;CN="Gene and Jeri McFadden":MAILTO:geneandjeri@twodragonstaichi.com
END:VEVENT
BEGIN:VEVENT
DTSTART;TZID=America/New_York:20280803T183000
DTEND;TZID=America/New_York:20280803T193000
DTSTAMP:20260419T213855
CREATED:20220825T020406Z
LAST-MODIFIED:20240511T125159Z
UID:10000402-1848940200-1848943800@twodragonstaichi.com
SUMMARY:Tai Chi at Centerville One Stop
DESCRIPTION:Teaching the Yang 10 form.\nYou must register for this class with the One Stop Office.\nA new sessions starts every month – except for November and December.\nYou can call 678-277-0228 for information and registration.
URL:https://twodragonstaichi.com/event/tai-chi-at-centerville-one-stop/2028-08-03/
LOCATION:Centerville One Stop\, 3025 Bethany Church Rd\, Snellville\, GA\, 30039\, United States
ORGANIZER;CN="Gene and Jeri McFadden":MAILTO:geneandjeri@twodragonstaichi.com
END:VEVENT
BEGIN:VEVENT
DTSTART;TZID=America/New_York:20280810T183000
DTEND;TZID=America/New_York:20280810T193000
DTSTAMP:20260419T213855
CREATED:20220825T020406Z
LAST-MODIFIED:20240511T125159Z
UID:10000403-1849545000-1849548600@twodragonstaichi.com
SUMMARY:Tai Chi at Centerville One Stop
DESCRIPTION:Teaching the Yang 10 form.\nYou must register for this class with the One Stop Office.\nA new sessions starts every month – except for November and December.\nYou can call 678-277-0228 for information and registration.
URL:https://twodragonstaichi.com/event/tai-chi-at-centerville-one-stop/2028-08-10/
LOCATION:Centerville One Stop\, 3025 Bethany Church Rd\, Snellville\, GA\, 30039\, United States
ORGANIZER;CN="Gene and Jeri McFadden":MAILTO:geneandjeri@twodragonstaichi.com
END:VEVENT
BEGIN:VEVENT
DTSTART;TZID=America/New_York:20280817T183000
DTEND;TZID=America/New_York:20280817T193000
DTSTAMP:20260419T213855
CREATED:20220825T020406Z
LAST-MODIFIED:20240511T125159Z
UID:10000404-1850149800-1850153400@twodragonstaichi.com
SUMMARY:Tai Chi at Centerville One Stop
DESCRIPTION:Teaching the Yang 10 form.\nYou must register for this class with the One Stop Office.\nA new sessions starts every month – except for November and December.\nYou can call 678-277-0228 for information and registration.
URL:https://twodragonstaichi.com/event/tai-chi-at-centerville-one-stop/2028-08-17/
LOCATION:Centerville One Stop\, 3025 Bethany Church Rd\, Snellville\, GA\, 30039\, United States
ORGANIZER;CN="Gene and Jeri McFadden":MAILTO:geneandjeri@twodragonstaichi.com
END:VEVENT
BEGIN:VEVENT
DTSTART;TZID=America/New_York:20280824T183000
DTEND;TZID=America/New_York:20280824T193000
DTSTAMP:20260419T213855
CREATED:20220825T020406Z
LAST-MODIFIED:20240511T125159Z
UID:10000405-1850754600-1850758200@twodragonstaichi.com
SUMMARY:Tai Chi at Centerville One Stop
DESCRIPTION:Teaching the Yang 10 form.\nYou must register for this class with the One Stop Office.\nA new sessions starts every month – except for November and December.\nYou can call 678-277-0228 for information and registration.
URL:https://twodragonstaichi.com/event/tai-chi-at-centerville-one-stop/2028-08-24/
LOCATION:Centerville One Stop\, 3025 Bethany Church Rd\, Snellville\, GA\, 30039\, United States
ORGANIZER;CN="Gene and Jeri McFadden":MAILTO:geneandjeri@twodragonstaichi.com
END:VEVENT
BEGIN:VEVENT
DTSTART;TZID=America/New_York:20280831T183000
DTEND;TZID=America/New_York:20280831T193000
DTSTAMP:20260419T213855
CREATED:20220825T020406Z
LAST-MODIFIED:20240511T125159Z
UID:10000406-1851359400-1851363000@twodragonstaichi.com
SUMMARY:Tai Chi at Centerville One Stop
DESCRIPTION:Teaching the Yang 10 form.\nYou must register for this class with the One Stop Office.\nA new sessions starts every month – except for November and December.\nYou can call 678-277-0228 for information and registration.
URL:https://twodragonstaichi.com/event/tai-chi-at-centerville-one-stop/2028-08-31/
LOCATION:Centerville One Stop\, 3025 Bethany Church Rd\, Snellville\, GA\, 30039\, United States
ORGANIZER;CN="Gene and Jeri McFadden":MAILTO:geneandjeri@twodragonstaichi.com
END:VEVENT
BEGIN:VEVENT
DTSTART;TZID=America/New_York:20280907T183000
DTEND;TZID=America/New_York:20280907T193000
DTSTAMP:20260419T213855
CREATED:20220825T020406Z
LAST-MODIFIED:20240511T125159Z
UID:10000407-1851964200-1851967800@twodragonstaichi.com
SUMMARY:Tai Chi at Centerville One Stop
DESCRIPTION:Teaching the Yang 10 form.\nYou must register for this class with the One Stop Office.\nA new sessions starts every month – except for November and December.\nYou can call 678-277-0228 for information and registration.
URL:https://twodragonstaichi.com/event/tai-chi-at-centerville-one-stop/2028-09-07/
LOCATION:Centerville One Stop\, 3025 Bethany Church Rd\, Snellville\, GA\, 30039\, United States
ORGANIZER;CN="Gene and Jeri McFadden":MAILTO:geneandjeri@twodragonstaichi.com
END:VEVENT
BEGIN:VEVENT
DTSTART;TZID=America/New_York:20280914T183000
DTEND;TZID=America/New_York:20280914T193000
DTSTAMP:20260419T213855
CREATED:20220825T020406Z
LAST-MODIFIED:20240511T125159Z
UID:10000408-1852569000-1852572600@twodragonstaichi.com
SUMMARY:Tai Chi at Centerville One Stop
DESCRIPTION:Teaching the Yang 10 form.\nYou must register for this class with the One Stop Office.\nA new sessions starts every month – except for November and December.\nYou can call 678-277-0228 for information and registration.
URL:https://twodragonstaichi.com/event/tai-chi-at-centerville-one-stop/2028-09-14/
LOCATION:Centerville One Stop\, 3025 Bethany Church Rd\, Snellville\, GA\, 30039\, United States
ORGANIZER;CN="Gene and Jeri McFadden":MAILTO:geneandjeri@twodragonstaichi.com
END:VEVENT
BEGIN:VEVENT
DTSTART;TZID=America/New_York:20280921T183000
DTEND;TZID=America/New_York:20280921T193000
DTSTAMP:20260419T213855
CREATED:20220825T020406Z
LAST-MODIFIED:20240511T125159Z
UID:10000409-1853173800-1853177400@twodragonstaichi.com
SUMMARY:Tai Chi at Centerville One Stop
DESCRIPTION:Teaching the Yang 10 form.\nYou must register for this class with the One Stop Office.\nA new sessions starts every month – except for November and December.\nYou can call 678-277-0228 for information and registration.
URL:https://twodragonstaichi.com/event/tai-chi-at-centerville-one-stop/2028-09-21/
LOCATION:Centerville One Stop\, 3025 Bethany Church Rd\, Snellville\, GA\, 30039\, United States
ORGANIZER;CN="Gene and Jeri McFadden":MAILTO:geneandjeri@twodragonstaichi.com
END:VEVENT
BEGIN:VEVENT
DTSTART;TZID=America/New_York:20280928T183000
DTEND;TZID=America/New_York:20280928T193000
DTSTAMP:20260419T213855
CREATED:20220825T020406Z
LAST-MODIFIED:20240511T125159Z
UID:10000410-1853778600-1853782200@twodragonstaichi.com
SUMMARY:Tai Chi at Centerville One Stop
DESCRIPTION:Teaching the Yang 10 form.\nYou must register for this class with the One Stop Office.\nA new sessions starts every month – except for November and December.\nYou can call 678-277-0228 for information and registration.
URL:https://twodragonstaichi.com/event/tai-chi-at-centerville-one-stop/2028-09-28/
LOCATION:Centerville One Stop\, 3025 Bethany Church Rd\, Snellville\, GA\, 30039\, United States
ORGANIZER;CN="Gene and Jeri McFadden":MAILTO:geneandjeri@twodragonstaichi.com
END:VEVENT
BEGIN:VEVENT
DTSTART;TZID=America/New_York:20281005T183000
DTEND;TZID=America/New_York:20281005T193000
DTSTAMP:20260419T213855
CREATED:20220825T020406Z
LAST-MODIFIED:20240511T125159Z
UID:10000411-1854383400-1854387000@twodragonstaichi.com
SUMMARY:Tai Chi at Centerville One Stop
DESCRIPTION:Teaching the Yang 10 form.\nYou must register for this class with the One Stop Office.\nA new sessions starts every month – except for November and December.\nYou can call 678-277-0228 for information and registration.
URL:https://twodragonstaichi.com/event/tai-chi-at-centerville-one-stop/2028-10-05/
LOCATION:Centerville One Stop\, 3025 Bethany Church Rd\, Snellville\, GA\, 30039\, United States
ORGANIZER;CN="Gene and Jeri McFadden":MAILTO:geneandjeri@twodragonstaichi.com
END:VEVENT
BEGIN:VEVENT
DTSTART;TZID=America/New_York:20281012T183000
DTEND;TZID=America/New_York:20281012T193000
DTSTAMP:20260419T213855
CREATED:20220825T020406Z
LAST-MODIFIED:20240511T125159Z
UID:10000412-1854988200-1854991800@twodragonstaichi.com
SUMMARY:Tai Chi at Centerville One Stop
DESCRIPTION:Teaching the Yang 10 form.\nYou must register for this class with the One Stop Office.\nA new sessions starts every month – except for November and December.\nYou can call 678-277-0228 for information and registration.
URL:https://twodragonstaichi.com/event/tai-chi-at-centerville-one-stop/2028-10-12/
LOCATION:Centerville One Stop\, 3025 Bethany Church Rd\, Snellville\, GA\, 30039\, United States
ORGANIZER;CN="Gene and Jeri McFadden":MAILTO:geneandjeri@twodragonstaichi.com
END:VEVENT
END:VCALENDAR